BEGIN:VCALENDAR
VERSION:2.0
PRODID:-//Headway Tyneside - ECPv6.15.20//NONSGML v1.0//EN
CALSCALE:GREGORIAN
METHOD:PUBLISH
X-ORIGINAL-URL:https://www.headwaytyneside.com
X-WR-CALDESC:Events for Headway Tyneside
REFRESH-INTERVAL;VALUE=DURATION:PT1H
X-Robots-Tag:noindex
X-PUBLISHED-TTL:PT1H
BEGIN:VTIMEZONE
TZID:Europe/London
BEGIN:DAYLIGHT
TZOFFSETFROM:+0000
TZOFFSETTO:+0100
TZNAME:BST
DTSTART:20220327T010000
END:DAYLIGHT
BEGIN:STANDARD
TZOFFSETFROM:+0100
TZOFFSETTO:+0000
TZNAME:GMT
DTSTART:20221030T010000
END:STANDARD
BEGIN:DAYLIGHT
TZOFFSETFROM:+0000
TZOFFSETTO:+0100
TZNAME:BST
DTSTART:20230326T010000
END:DAYLIGHT
BEGIN:STANDARD
TZOFFSETFROM:+0100
TZOFFSETTO:+0000
TZNAME:GMT
DTSTART:20231029T010000
END:STANDARD
BEGIN:DAYLIGHT
TZOFFSETFROM:+0000
TZOFFSETTO:+0100
TZNAME:BST
DTSTART:20240331T010000
END:DAYLIGHT
BEGIN:STANDARD
TZOFFSETFROM:+0100
TZOFFSETTO:+0000
TZNAME:GMT
DTSTART:20241027T010000
END:STANDARD
END:VTIMEZONE
BEGIN:VEVENT
DTSTART;TZID=Europe/London:20230921T100000
DTEND;TZID=Europe/London:20230921T120000
DTSTAMP:20260419T151554
CREATED:20230823T191252Z
LAST-MODIFIED:20230829T104220Z
UID:1050-1695290400-1695297600@www.headwaytyneside.com
SUMMARY:Brain Injury awareness course - Week 2 of 5
DESCRIPTION:Understanding my Brain Injury \nThanks to funding from Morrisons Foundation\, Headway Tyneside is delivering a free course for Headway Members. Pre-booking is essential and by signing up you are committing to attend all five sessions. Follow this link for further information and to book your place. \nSession topics include: \n\nThe impact of injury on the brain\nEnergy\, sleep\, and fatigue\nAttention and memory\nBehaviour and emotions\nInsight and awareness
URL:https://www.headwaytyneside.com/event/brain-injury-awareness-course-week-2-of-5/
LOCATION:MEA House\, Ellison Place\, Newcastle upon Tyne\, NE1 8XS\, United Kingdom
CATEGORIES:One off
ATTACH;FMTTYPE=image/png:https://www.headwaytyneside.com/wp-content/uploads/2023/08/BI-awareness-poster-headway-autumn-23.png
END:VEVENT
END:VCALENDAR