BEGIN:VCALENDAR
VERSION:2.0
PRODID:-//Headway Tyneside - ECPv6.15.20//NONSGML v1.0//EN
CALSCALE:GREGORIAN
METHOD:PUBLISH
X-WR-CALNAME:Headway Tyneside
X-ORIGINAL-URL:https://www.headwaytyneside.com
X-WR-CALDESC:Events for Headway Tyneside
REFRESH-INTERVAL;VALUE=DURATION:PT1H
X-Robots-Tag:noindex
X-PUBLISHED-TTL:PT1H
BEGIN:VTIMEZONE
TZID:Europe/London
BEGIN:DAYLIGHT
TZOFFSETFROM:+0000
TZOFFSETTO:+0100
TZNAME:BST
DTSTART:20240331T010000
END:DAYLIGHT
BEGIN:STANDARD
TZOFFSETFROM:+0100
TZOFFSETTO:+0000
TZNAME:GMT
DTSTART:20241027T010000
END:STANDARD
BEGIN:DAYLIGHT
TZOFFSETFROM:+0000
TZOFFSETTO:+0100
TZNAME:BST
DTSTART:20250330T010000
END:DAYLIGHT
BEGIN:STANDARD
TZOFFSETFROM:+0100
TZOFFSETTO:+0000
TZNAME:GMT
DTSTART:20251026T010000
END:STANDARD
BEGIN:DAYLIGHT
TZOFFSETFROM:+0000
TZOFFSETTO:+0100
TZNAME:BST
DTSTART:20260329T010000
END:DAYLIGHT
BEGIN:STANDARD
TZOFFSETFROM:+0100
TZOFFSETTO:+0000
TZNAME:GMT
DTSTART:20261025T010000
END:STANDARD
END:VTIMEZONE
BEGIN:VEVENT
DTSTART;TZID=Europe/London:20250701T133000
DTEND;TZID=Europe/London:20250701T150000
DTSTAMP:20260421T121227
CREATED:20250403T115825Z
LAST-MODIFIED:20250610T093332Z
UID:2290-1751376600-1751382000@www.headwaytyneside.com
SUMMARY:Monthly Outing: Saltwell Park
DESCRIPTION:Come and join us for a walk and a coffee around Saltwell Park in Gateshead! \nThe park boasts walking routes that are paved and flat\, with a beautiful lake and gardens to walk around. \nThere is also a café to stop at for a hot or cold drink\, where we can either sit in or take away\, dogs are welcome in the café. \nGetting there: \nBy foot \nThe park is easily accessible by foot from many areas of Gateshead. A walk from the centre of Gateshead will take around 30 minutes (also from the nearest metro – Gateshead). \nThe park has entrances on East Park Road\, West Park Road\, Saltwell Road South\, Saltwell View and Joicey Road. \nBy car \nPostcode NE8 4SF will take you directly to the car park. The car and coach park is accessed from Durham Road (A167) via Joicey Road. The car park is free all year round and includes three blue badge spaces. \nBy bus \nThe buses 53 and 54 run regularly from Gateshead Interchange to Saltwell Park. \nThe gardens are free access. \nPlease let Hannah know if you would like to come!
URL:https://www.headwaytyneside.com/event/june-outing-saltwell-park/
LOCATION:Saltwell Park\, East Park Road\, Gateshead\, NE9 6DT\, United Kingdom
CATEGORIES:One off
ATTACH;FMTTYPE=image/jpeg:https://www.headwaytyneside.com/wp-content/uploads/2025/04/saltwell-park.jpg
END:VEVENT
END:VCALENDAR