BEGIN:VCALENDAR
VERSION:2.0
PRODID:-//Headway Tyneside - ECPv6.15.20//NONSGML v1.0//EN
CALSCALE:GREGORIAN
METHOD:PUBLISH
X-WR-CALNAME:Headway Tyneside
X-ORIGINAL-URL:https://www.headwaytyneside.com
X-WR-CALDESC:Events for Headway Tyneside
REFRESH-INTERVAL;VALUE=DURATION:PT1H
X-Robots-Tag:noindex
X-PUBLISHED-TTL:PT1H
BEGIN:VTIMEZONE
TZID:Europe/London
BEGIN:DAYLIGHT
TZOFFSETFROM:+0000
TZOFFSETTO:+0100
TZNAME:BST
DTSTART:20240331T010000
END:DAYLIGHT
BEGIN:STANDARD
TZOFFSETFROM:+0100
TZOFFSETTO:+0000
TZNAME:GMT
DTSTART:20241027T010000
END:STANDARD
BEGIN:DAYLIGHT
TZOFFSETFROM:+0000
TZOFFSETTO:+0100
TZNAME:BST
DTSTART:20250330T010000
END:DAYLIGHT
BEGIN:STANDARD
TZOFFSETFROM:+0100
TZOFFSETTO:+0000
TZNAME:GMT
DTSTART:20251026T010000
END:STANDARD
BEGIN:DAYLIGHT
TZOFFSETFROM:+0000
TZOFFSETTO:+0100
TZNAME:BST
DTSTART:20260329T010000
END:DAYLIGHT
BEGIN:STANDARD
TZOFFSETFROM:+0100
TZOFFSETTO:+0000
TZNAME:GMT
DTSTART:20261025T010000
END:STANDARD
END:VTIMEZONE
BEGIN:VEVENT
DTSTART;TZID=Europe/London:20250506T180000
DTEND;TZID=Europe/London:20250506T200000
DTSTAMP:20260421T232228
CREATED:20250402T095425Z
LAST-MODIFIED:20250501T081721Z
UID:2278-1746554400-1746561600@www.headwaytyneside.com
SUMMARY:Tuesday Night Social Group
DESCRIPTION:We run a social group every Tuesday evening at Walkergate Park from 6-8pm. Tea\, coffee and biscuits are on offer\, and we promise you a warm welcome! \nUsually about 30 people attend this group each week – this includes Headway Tyneside members living with brain injury in the community\, inpatients receiving rehabilitation\, and families and carers.\nAs well as plenty of opportunity for friendly conversation\, we also run a different activity each week. Keep your eyes on our event page to see what is coming up! Our regular activities include table top games\, quizzes\, boccia\, family support sessions\, guest talks and much more
URL:https://www.headwaytyneside.com/event/tuesday-night-social-group-102/
LOCATION:Walkergate Park\, Benfield Road\, Newcastle upon Tyne\, NE6 4QD\, United Kingdom
CATEGORIES:Regular
ATTACH;FMTTYPE=image/jpeg:https://www.headwaytyneside.com/wp-content/uploads/2023/04/social-small-e1706721794531.jpg
END:VEVENT
BEGIN:VEVENT
DTSTART;TZID=Europe/London:20250507T130000
DTEND;TZID=Europe/London:20250507T140000
DTSTAMP:20260421T232228
CREATED:20250417T070744Z
LAST-MODIFIED:20250417T070744Z
UID:2312-1746622800-1746626400@www.headwaytyneside.com
SUMMARY:Walking football
DESCRIPTION:Walking football is a fun and safe way for players to enjoy football and socialise together\, in teams up to 7-a-side. \nWalking football involves no running\, jogging\, or heading. Physical contact is kept to a minimum – no slide tackling or tackling from behind. The ball has to stay below chest height. \nOur walking football group runs every Wednesday from 1-2pm. We take regular drinks breaks\, and have with mixed teams of men and women and a variety of age groups and abilities. The coaches at Newcastle United Foundation are all highly skilled\, and make sure that everyone feels included and goes home with a smile on their face. \nThese sessions are free of charge\, thanks for kind sponsorship from Sintons. \nWe always welcome new players – if you would like to give it a try\, please contact us to find out more.
URL:https://www.headwaytyneside.com/event/walking-football-102/
LOCATION:NUCASTLE\, Diana Street\, Newcastle upon Tyne\, NE4 6BQ\, United Kingdom
CATEGORIES:Regular
ATTACH;FMTTYPE=image/jpeg:https://www.headwaytyneside.com/wp-content/uploads/2023/04/WF-group-e1706721898220.jpg
END:VEVENT
BEGIN:VEVENT
DTSTART;TZID=Europe/London:20250513T180000
DTEND;TZID=Europe/London:20250513T200000
DTSTAMP:20260421T232228
CREATED:20250402T095523Z
LAST-MODIFIED:20250501T081817Z
UID:2280-1747159200-1747166400@www.headwaytyneside.com
SUMMARY:Tuesday Night Social Group
DESCRIPTION:We run a social group every Tuesday evening at Walkergate Park from 6-8pm. Tea\, coffee and biscuits are on offer\, and we promise you a warm welcome! \nUsually about 30 people attend this group each week – this includes Headway Tyneside members living with brain injury in the community\, inpatients receiving rehabilitation\, and families and carers.\nAs well as plenty of opportunity for friendly conversation\, we also run a different activity each week. Keep your eyes on our event page to see what is coming up! Our regular activities include table top games\, quizzes\, boccia\, family support sessions\, guest talks and much more
URL:https://www.headwaytyneside.com/event/tuesday-night-social-group-103/
LOCATION:Walkergate Park\, Benfield Road\, Newcastle upon Tyne\, NE6 4QD\, United Kingdom
CATEGORIES:Regular
ATTACH;FMTTYPE=image/jpeg:https://www.headwaytyneside.com/wp-content/uploads/2023/04/social-small-e1706721794531.jpg
END:VEVENT
BEGIN:VEVENT
DTSTART;TZID=Europe/London:20250514T130000
DTEND;TZID=Europe/London:20250514T140000
DTSTAMP:20260421T232228
CREATED:20250417T070916Z
LAST-MODIFIED:20250417T070916Z
UID:2314-1747227600-1747231200@www.headwaytyneside.com
SUMMARY:Walking football
DESCRIPTION:Walking football is a fun and safe way for players to enjoy football and socialise together\, in teams up to 7-a-side. \nWalking football involves no running\, jogging\, or heading. Physical contact is kept to a minimum – no slide tackling or tackling from behind. The ball has to stay below chest height. \nOur walking football group runs every Wednesday from 1-2pm. We take regular drinks breaks\, and have with mixed teams of men and women and a variety of age groups and abilities. The coaches at Newcastle United Foundation are all highly skilled\, and make sure that everyone feels included and goes home with a smile on their face. \nThese sessions are free of charge\, thanks for kind sponsorship from Sintons. \nWe always welcome new players – if you would like to give it a try\, please contact us to find out more.
URL:https://www.headwaytyneside.com/event/walking-football-103/
LOCATION:NUCASTLE\, Diana Street\, Newcastle upon Tyne\, NE4 6BQ\, United Kingdom
CATEGORIES:Regular
ATTACH;FMTTYPE=image/jpeg:https://www.headwaytyneside.com/wp-content/uploads/2023/04/WF-group-e1706721898220.jpg
END:VEVENT
BEGIN:VEVENT
DTSTART;TZID=Europe/London:20250514T140000
DTEND;TZID=Europe/London:20250514T160000
DTSTAMP:20260421T232228
CREATED:20250402T100401Z
LAST-MODIFIED:20250402T100401Z
UID:2286-1747231200-1747238400@www.headwaytyneside.com
SUMMARY:Social Drop in at Shieldfield Art Works
DESCRIPTION:On the second and fourth Wednesday of the month\, we hold an informal drop-in session at Shieldfield Art Works (SAW)\, between 2-4pm. Tea\, coffee and biscuits are on offer and we promise you a warm welcome!\nThis is a chance to have a cuppa and a catch up with friends old and new. This group is based around friendly conversation – our members’ experiences are invaluable and through building relationships with one another we can develop a strong and supportive community for brain injury survivors and their families.
URL:https://www.headwaytyneside.com/event/social-drop-in-at-shieldfield-art-works-9/
LOCATION:Shieldfield Art Works\, 1 Clarence Street\, Newcastle upon Tyne\, NE2 1YH\, United Kingdom
CATEGORIES:Regular
ATTACH;FMTTYPE=image/webp:https://www.headwaytyneside.com/wp-content/uploads/2024/10/tea-and-biscuit.webp
END:VEVENT
BEGIN:VEVENT
DTSTART;TZID=Europe/London:20250520T180000
DTEND;TZID=Europe/London:20250520T200000
DTSTAMP:20260421T232228
CREATED:20250402T095620Z
LAST-MODIFIED:20250501T081923Z
UID:2282-1747764000-1747771200@www.headwaytyneside.com
SUMMARY:Tuesday Night Social Group
DESCRIPTION:We run a social group every Tuesday evening at Walkergate Park from 6-8pm. Tea\, coffee and biscuits are on offer\, and we promise you a warm welcome! \nUsually about 30 people attend this group each week – this includes Headway Tyneside members living with brain injury in the community\, inpatients receiving rehabilitation\, and families and carers.\nAs well as plenty of opportunity for friendly conversation\, we also run a different activity each week. Keep your eyes on our event page to see what is coming up! Our regular activities include table top games\, quizzes\, boccia\, family support sessions\, guest talks and much more
URL:https://www.headwaytyneside.com/event/tuesday-night-social-group-104/
LOCATION:Walkergate Park\, Benfield Road\, Newcastle upon Tyne\, NE6 4QD\, United Kingdom
CATEGORIES:Regular
ATTACH;FMTTYPE=image/jpeg:https://www.headwaytyneside.com/wp-content/uploads/2023/04/social-small-e1706721794531.jpg
END:VEVENT
BEGIN:VEVENT
DTSTART;TZID=Europe/London:20250520T180000
DTEND;TZID=Europe/London:20250520T200000
DTSTAMP:20260421T232228
CREATED:20250430T092644Z
LAST-MODIFIED:20250430T144202Z
UID:2330-1747764000-1747771200@www.headwaytyneside.com
SUMMARY:Carers Space
DESCRIPTION:Headway Tyneside and Wearside are delighted to launch a monthly carers group at Walkergate Park. This informal\, supportive space will be facilitated by Julie King\, Family Support Officer. \nJoin us for peer support and the chance to chat to others sharing similar experiences. Each session will be shaped by you and focus on what is important to you. \nThese sessions will run from 6:15-8pm at Walkergate Park in the family lounge on the 3rd Tuesday of each month.
URL:https://www.headwaytyneside.com/event/carers-space/
LOCATION:Walkergate Park\, Benfield Road\, Newcastle upon Tyne\, NE6 4QD\, United Kingdom
CATEGORIES:Regular
ATTACH;FMTTYPE=image/png:https://www.headwaytyneside.com/wp-content/uploads/2025/04/Carers-space-1600-x-900-px.png
END:VEVENT
BEGIN:VEVENT
DTSTART;TZID=Europe/London:20250521T130000
DTEND;TZID=Europe/London:20250521T140000
DTSTAMP:20260421T232228
CREATED:20250417T071031Z
LAST-MODIFIED:20250417T071031Z
UID:2316-1747832400-1747836000@www.headwaytyneside.com
SUMMARY:Walking football
DESCRIPTION:Walking football is a fun and safe way for players to enjoy football and socialise together\, in teams up to 7-a-side. \nWalking football involves no running\, jogging\, or heading. Physical contact is kept to a minimum – no slide tackling or tackling from behind. The ball has to stay below chest height. \nOur walking football group runs every Wednesday from 1-2pm. We take regular drinks breaks\, and have with mixed teams of men and women and a variety of age groups and abilities. The coaches at Newcastle United Foundation are all highly skilled\, and make sure that everyone feels included and goes home with a smile on their face. \nThese sessions are free of charge\, thanks for kind sponsorship from Sintons. \nWe always welcome new players – if you would like to give it a try\, please contact us to find out more.
URL:https://www.headwaytyneside.com/event/walking-football-104/
LOCATION:NUCASTLE\, Diana Street\, Newcastle upon Tyne\, NE4 6BQ\, United Kingdom
CATEGORIES:Regular
ATTACH;FMTTYPE=image/jpeg:https://www.headwaytyneside.com/wp-content/uploads/2023/04/WF-group-e1706721898220.jpg
END:VEVENT
BEGIN:VEVENT
DTSTART;TZID=Europe/London:20250527T180000
DTEND;TZID=Europe/London:20250527T200000
DTSTAMP:20260421T232228
CREATED:20250402T095713Z
LAST-MODIFIED:20250501T081959Z
UID:2284-1748368800-1748376000@www.headwaytyneside.com
SUMMARY:Tuesday Night Social Group
DESCRIPTION:We run a social group every Tuesday evening at Walkergate Park from 6-8pm. Tea\, coffee and biscuits are on offer\, and we promise you a warm welcome! \nUsually about 30 people attend this group each week – this includes Headway Tyneside members living with brain injury in the community\, inpatients receiving rehabilitation\, and families and carers.\nAs well as plenty of opportunity for friendly conversation\, we also run a different activity each week. Keep your eyes on our event page to see what is coming up! Our regular activities include table top games\, quizzes\, boccia\, family support sessions\, guest talks and much more
URL:https://www.headwaytyneside.com/event/tuesday-night-social-group-105/
LOCATION:Walkergate Park\, Benfield Road\, Newcastle upon Tyne\, NE6 4QD\, United Kingdom
CATEGORIES:Regular
ATTACH;FMTTYPE=image/jpeg:https://www.headwaytyneside.com/wp-content/uploads/2023/04/social-small-e1706721794531.jpg
END:VEVENT
BEGIN:VEVENT
DTSTART;TZID=Europe/London:20250528T130000
DTEND;TZID=Europe/London:20250528T140000
DTSTAMP:20260421T232228
CREATED:20250430T075510Z
LAST-MODIFIED:20250430T075510Z
UID:2328-1748437200-1748440800@www.headwaytyneside.com
SUMMARY:Walking Football: SoccerWorld
DESCRIPTION:Walking football is a fun and safe way for players to enjoy football and socialise together\, in teams up to 7-a-side. \nWalking football involves no running\, jogging\, or heading. Physical contact is kept to a minimum – no slide tackling or tackling from behind. The ball has to stay below chest height. \nOur walking football group runs every Wednesday from 1-2pm. We take regular drinks breaks\, and have with mixed teams of men and women and a variety of age groups and abilities. The coaches at Newcastle United Foundation are all highly skilled\, and make sure that everyone feels included and goes home with a smile on their face. \nThese sessions are free of charge\, thanks for kind sponsorship from Sintons. \nWe always welcome new players – if you would like to give it a try\, please contact us to find out more.
URL:https://www.headwaytyneside.com/event/walking-football-soccerworld-3/
LOCATION:SoccerWorld\, Centre for Sport\, West Road\,\, Newcastle Upon Tyne\, NE4 9LG
CATEGORIES:Regular
ATTACH;FMTTYPE=image/jpeg:https://www.headwaytyneside.com/wp-content/uploads/2023/04/WF-group-e1706721898220.jpg
END:VEVENT
BEGIN:VEVENT
DTSTART;TZID=Europe/London:20250528T140000
DTEND;TZID=Europe/London:20250528T160000
DTSTAMP:20260421T232228
CREATED:20250402T100632Z
LAST-MODIFIED:20250402T100632Z
UID:2288-1748440800-1748448000@www.headwaytyneside.com
SUMMARY:Social Drop in at Shieldfield Art Works
DESCRIPTION:On the second and fourth Wednesday of the month\, we hold an informal drop-in session at Shieldfield Art Works (SAW)\, between 2-4pm. Tea\, coffee and biscuits are on offer and we promise you a warm welcome!\nThis is a chance to have a cuppa and a catch up with friends old and new. This group is based around friendly conversation – our members’ experiences are invaluable and through building relationships with one another we can develop a strong and supportive community for brain injury survivors and their families.
URL:https://www.headwaytyneside.com/event/social-drop-in-at-shieldfield-art-works-10/
LOCATION:Shieldfield Art Works\, 1 Clarence Street\, Newcastle upon Tyne\, NE2 1YH\, United Kingdom
CATEGORIES:Regular
ATTACH;FMTTYPE=image/webp:https://www.headwaytyneside.com/wp-content/uploads/2024/10/tea-and-biscuit.webp
END:VEVENT
END:VCALENDAR