BEGIN:VCALENDAR
VERSION:2.0
PRODID:-//Headway Tyneside - ECPv6.15.20//NONSGML v1.0//EN
CALSCALE:GREGORIAN
METHOD:PUBLISH
X-ORIGINAL-URL:https://www.headwaytyneside.com
X-WR-CALDESC:Events for Headway Tyneside
REFRESH-INTERVAL;VALUE=DURATION:PT1H
X-Robots-Tag:noindex
X-PUBLISHED-TTL:PT1H
BEGIN:VTIMEZONE
TZID:Europe/London
BEGIN:DAYLIGHT
TZOFFSETFROM:+0000
TZOFFSETTO:+0100
TZNAME:BST
DTSTART:20240331T010000
END:DAYLIGHT
BEGIN:STANDARD
TZOFFSETFROM:+0100
TZOFFSETTO:+0000
TZNAME:GMT
DTSTART:20241027T010000
END:STANDARD
BEGIN:DAYLIGHT
TZOFFSETFROM:+0000
TZOFFSETTO:+0100
TZNAME:BST
DTSTART:20250330T010000
END:DAYLIGHT
BEGIN:STANDARD
TZOFFSETFROM:+0100
TZOFFSETTO:+0000
TZNAME:GMT
DTSTART:20251026T010000
END:STANDARD
BEGIN:DAYLIGHT
TZOFFSETFROM:+0000
TZOFFSETTO:+0100
TZNAME:BST
DTSTART:20260329T010000
END:DAYLIGHT
BEGIN:STANDARD
TZOFFSETFROM:+0100
TZOFFSETTO:+0000
TZNAME:GMT
DTSTART:20261025T010000
END:STANDARD
END:VTIMEZONE
BEGIN:VEVENT
DTSTART;TZID=Europe/London:20250603T180000
DTEND;TZID=Europe/London:20250603T200000
DTSTAMP:20260421T221748
CREATED:20250501T073112Z
LAST-MODIFIED:20250501T073112Z
UID:2357-1748973600-1748980800@www.headwaytyneside.com
SUMMARY:Tuesday Night Social Group
DESCRIPTION:We run a social group every Tuesday evening at Walkergate Park from 6-8pm. Tea\, coffee and biscuits are on offer\, and we promise you a warm welcome! \nUsually about 30 people attend this group each week – this includes Headway Tyneside members living with brain injury in the community\, inpatients receiving rehabilitation\, and families and carers.\nAs well as plenty of opportunity for friendly conversation\, we also run a different activity each week. Keep your eyes on our event page to see what is coming up! Our regular activities include table top games\, quizzes\, boccia\, family support sessions\, guest talks and much more
URL:https://www.headwaytyneside.com/event/tuesday-night-social-group-106/
LOCATION:Walkergate Park\, Benfield Road\, Newcastle upon Tyne\, NE6 4QD\, United Kingdom
CATEGORIES:Regular
ATTACH;FMTTYPE=image/jpeg:https://www.headwaytyneside.com/wp-content/uploads/2023/04/social-small-e1706721794531.jpg
END:VEVENT
BEGIN:VEVENT
DTSTART;TZID=Europe/London:20250604T130000
DTEND;TZID=Europe/London:20250604T140000
DTSTAMP:20260421T221748
CREATED:20250501T073835Z
LAST-MODIFIED:20250501T073835Z
UID:2365-1749042000-1749045600@www.headwaytyneside.com
SUMMARY:Walking Football
DESCRIPTION:Walking football is a fun and safe way for players to enjoy football and socialise together\, in teams up to 7-a-side. \nWalking football involves no running\, jogging\, or heading. Physical contact is kept to a minimum – no slide tackling or tackling from behind. The ball has to stay below chest height. \nOur walking football group runs every Wednesday from 1-2pm. We take regular drinks breaks\, and have with mixed teams of men and women and a variety of age groups and abilities. The coaches at Newcastle United Foundation are all highly skilled\, and make sure that everyone feels included and goes home with a smile on their face. \nThese sessions are free of charge\, thanks for kind sponsorship from Sintons. \nWe always welcome new players – if you would like to give it a try\, please contact us to find out more.
URL:https://www.headwaytyneside.com/event/walking-football-105/
LOCATION:NUCASTLE\, Diana Street\, Newcastle upon Tyne\, NE4 6BQ\, United Kingdom
CATEGORIES:Regular
ATTACH;FMTTYPE=image/jpeg:https://www.headwaytyneside.com/wp-content/uploads/2023/04/WF-group-e1706721898220.jpg
END:VEVENT
BEGIN:VEVENT
DTSTART;TZID=Europe/London:20250606T140000
DTEND;TZID=Europe/London:20250606T150000
DTSTAMP:20260421T221748
CREATED:20250508T093826Z
LAST-MODIFIED:20250508T093828Z
UID:2418-1749218400-1749222000@www.headwaytyneside.com
SUMMARY:Lets Dance! A Headway Dance Group
DESCRIPTION:When: Friday 6th June\, 2pm \nLocation: The Dance Studio\, Linskill Centre\, NE30 2AY \nJoin Headway Tyneside’s dance class especially developed for brain injury survivors: an expressive\, energetic movement class for adults of all abilities living with brain injury and their carers. We will use a range of dance techniques\, music styles and themes to guide you through a fun-filled class. Sessions are free of charge but pre-booking is essential. \nContact Hannah to book your place.
URL:https://www.headwaytyneside.com/event/lets-dance-a-headway-dance-group/
LOCATION:Linskill Centre\, Linskill Terrace\, North Shields\, NE30 2AY
CATEGORIES:Regular
ATTACH;FMTTYPE=image/png:https://www.headwaytyneside.com/wp-content/uploads/2025/04/lets-dance-1600-x-900-px-.png
END:VEVENT
BEGIN:VEVENT
DTSTART;TZID=Europe/London:20250610T180000
DTEND;TZID=Europe/London:20250610T200000
DTSTAMP:20260421T221748
CREATED:20250501T073450Z
LAST-MODIFIED:20250501T073450Z
UID:2359-1749578400-1749585600@www.headwaytyneside.com
SUMMARY:Tuesday Night Social Group
DESCRIPTION:We run a social group every Tuesday evening at Walkergate Park from 6-8pm. Tea\, coffee and biscuits are on offer\, and we promise you a warm welcome! \nUsually about 30 people attend this group each week – this includes Headway Tyneside members living with brain injury in the community\, inpatients receiving rehabilitation\, and families and carers.\nAs well as plenty of opportunity for friendly conversation\, we also run a different activity each week. Keep your eyes on our event page to see what is coming up! Our regular activities include table top games\, quizzes\, boccia\, family support sessions\, guest talks and much more
URL:https://www.headwaytyneside.com/event/tuesday-night-social-group-107/
LOCATION:Walkergate Park\, Benfield Road\, Newcastle upon Tyne\, NE6 4QD\, United Kingdom
CATEGORIES:Regular
ATTACH;FMTTYPE=image/jpeg:https://www.headwaytyneside.com/wp-content/uploads/2023/04/social-small-e1706721794531.jpg
END:VEVENT
BEGIN:VEVENT
DTSTART;TZID=Europe/London:20250611T130000
DTEND;TZID=Europe/London:20250611T140000
DTSTAMP:20260421T221748
CREATED:20250501T073941Z
LAST-MODIFIED:20250501T073941Z
UID:2367-1749646800-1749650400@www.headwaytyneside.com
SUMMARY:Walking Football
DESCRIPTION:Walking football is a fun and safe way for players to enjoy football and socialise together\, in teams up to 7-a-side. \nWalking football involves no running\, jogging\, or heading. Physical contact is kept to a minimum – no slide tackling or tackling from behind. The ball has to stay below chest height. \nOur walking football group runs every Wednesday from 1-2pm. We take regular drinks breaks\, and have with mixed teams of men and women and a variety of age groups and abilities. The coaches at Newcastle United Foundation are all highly skilled\, and make sure that everyone feels included and goes home with a smile on their face. \nThese sessions are free of charge\, thanks for kind sponsorship from Sintons. \nWe always welcome new players – if you would like to give it a try\, please contact us to find out more.
URL:https://www.headwaytyneside.com/event/walking-football-106/
LOCATION:NUCASTLE\, Diana Street\, Newcastle upon Tyne\, NE4 6BQ\, United Kingdom
CATEGORIES:Regular
ATTACH;FMTTYPE=image/jpeg:https://www.headwaytyneside.com/wp-content/uploads/2023/04/WF-group-e1706721898220.jpg
END:VEVENT
BEGIN:VEVENT
DTSTART;TZID=Europe/London:20250611T140000
DTEND;TZID=Europe/London:20250611T160000
DTSTAMP:20260421T221748
CREATED:20250501T074455Z
LAST-MODIFIED:20250501T074455Z
UID:2373-1749650400-1749657600@www.headwaytyneside.com
SUMMARY:Social Drop in at Shieldfield Art Works
DESCRIPTION:On the second and fourth Wednesday of the month\, we hold an informal drop-in session at Shieldfield Art Works (SAW)\, between 2-4pm. Tea\, coffee and biscuits are on offer and we promise you a warm welcome!\nThis is a chance to have a cuppa and a catch up with friends old and new. This group is based around friendly conversation – our members’ experiences are invaluable and through building relationships with one another we can develop a strong and supportive community for brain injury survivors and their families.
URL:https://www.headwaytyneside.com/event/social-drop-in-at-shieldfield-art-works-11/
LOCATION:Shieldfield Art Works\, 1 Clarence Street\, Newcastle upon Tyne\, NE2 1YH\, United Kingdom
CATEGORIES:Regular
ATTACH;FMTTYPE=image/webp:https://www.headwaytyneside.com/wp-content/uploads/2024/10/tea-and-biscuit.webp
END:VEVENT
BEGIN:VEVENT
DTSTART;TZID=Europe/London:20250613T140000
DTEND;TZID=Europe/London:20250613T150000
DTSTAMP:20260421T221748
CREATED:20250508T094123Z
LAST-MODIFIED:20250508T094123Z
UID:2426-1749823200-1749826800@www.headwaytyneside.com
SUMMARY:Let Dance! A Headway Dance Group
DESCRIPTION:When: Friday\, 2pm \nLocation: The Dance Studio\, Linskill Centre\, NE30 2AY \nJoin Headway Tyneside’s dance class especially developed for brain injury survivors: an expressive\, energetic movement class for adults of all abilities living with brain injury and their carers. We will use a range of dance techniques\, music styles and themes to guide you through a fun-filled class. Sessions are free of charge but pre-booking is essential.
URL:https://www.headwaytyneside.com/event/let-dance-a-headway-dance-group/
LOCATION:Linskill Centre\, Linskill Terrace\, North Shields\, NE30 2AY
CATEGORIES:Regular
ATTACH;FMTTYPE=image/png:https://www.headwaytyneside.com/wp-content/uploads/2025/04/lets-dance-1600-x-900-px-.png
END:VEVENT
BEGIN:VEVENT
DTSTART;TZID=Europe/London:20250617T180000
DTEND;TZID=Europe/London:20250617T200000
DTSTAMP:20260421T221748
CREATED:20250501T073548Z
LAST-MODIFIED:20250611T154115Z
UID:2361-1750183200-1750190400@www.headwaytyneside.com
SUMMARY:Tuesday Night Social Group
DESCRIPTION:We run a social group every Tuesday evening at Walkergate Park from 6-8pm. Tea\, coffee and biscuits are on offer\, and we promise you a warm welcome! \nUsually about 30 people attend this group each week – this includes Headway Tyneside members living with brain injury in the community\, inpatients receiving rehabilitation\, and families and carers.\nAs well as plenty of opportunity for friendly conversation\, we also run a different activity each week. Keep your eyes on our event page to see what is coming up! Our regular activities include table top games\, quizzes\, boccia\, family support sessions\, guest talks and much more
URL:https://www.headwaytyneside.com/event/tuesday-night-social-group-108/
LOCATION:Walkergate Park\, Benfield Road\, Newcastle upon Tyne\, NE6 4QD\, United Kingdom
CATEGORIES:Regular
ATTACH;FMTTYPE=image/jpeg:https://www.headwaytyneside.com/wp-content/uploads/2023/04/social-small-e1706721794531.jpg
END:VEVENT
BEGIN:VEVENT
DTSTART;TZID=Europe/London:20250617T180000
DTEND;TZID=Europe/London:20250617T200000
DTSTAMP:20260421T221748
CREATED:20250501T075030Z
LAST-MODIFIED:20250515T134419Z
UID:2377-1750183200-1750190400@www.headwaytyneside.com
SUMMARY:Carers Space
DESCRIPTION:Come along to the monthly carers space. This informal\, supportive space will be facilitated by Julie King\, Family Support Officer. \nJoin us for peer support and the chance to chat to others sharing similar experiences. Each session will be shaped by you and focus on what is important to you. \nThese sessions will run from 6:15-8pm at Walkergate Park in the family lounge on the 3rd Tuesday of each month.
URL:https://www.headwaytyneside.com/event/carers-space-2/
LOCATION:Walkergate Park\, Benfield Road\, Newcastle upon Tyne\, NE6 4QD\, United Kingdom
CATEGORIES:Regular
ATTACH;FMTTYPE=image/png:https://www.headwaytyneside.com/wp-content/uploads/2025/04/Carers-space-1600-x-900-px.png
END:VEVENT
BEGIN:VEVENT
DTSTART;TZID=Europe/London:20250618T130000
DTEND;TZID=Europe/London:20250618T140000
DTSTAMP:20260421T221748
CREATED:20250501T074036Z
LAST-MODIFIED:20250501T074036Z
UID:2369-1750251600-1750255200@www.headwaytyneside.com
SUMMARY:Walking Football
DESCRIPTION:Walking football is a fun and safe way for players to enjoy football and socialise together\, in teams up to 7-a-side. \nWalking football involves no running\, jogging\, or heading. Physical contact is kept to a minimum – no slide tackling or tackling from behind. The ball has to stay below chest height. \nOur walking football group runs every Wednesday from 1-2pm. We take regular drinks breaks\, and have with mixed teams of men and women and a variety of age groups and abilities. The coaches at Newcastle United Foundation are all highly skilled\, and make sure that everyone feels included and goes home with a smile on their face. \nThese sessions are free of charge\, thanks for kind sponsorship from Sintons. \nWe always welcome new players – if you would like to give it a try\, please contact us to find out more.
URL:https://www.headwaytyneside.com/event/walking-football-107/
LOCATION:NUCASTLE\, Diana Street\, Newcastle upon Tyne\, NE4 6BQ\, United Kingdom
CATEGORIES:Regular
ATTACH;FMTTYPE=image/jpeg:https://www.headwaytyneside.com/wp-content/uploads/2023/04/WF-group-e1706721898220.jpg
END:VEVENT
BEGIN:VEVENT
DTSTART;TZID=Europe/London:20250620T140000
DTEND;TZID=Europe/London:20250620T150000
DTSTAMP:20260421T221748
CREATED:20250508T094329Z
LAST-MODIFIED:20250508T094329Z
UID:2428-1750428000-1750431600@www.headwaytyneside.com
SUMMARY:Lets Dance! A Headway Dance Group
DESCRIPTION:When: Friday\, 2pm \nLocation: The Dance Studio\, Linskill Centre\, NE30 2AY \nJoin Headway Tyneside’s dance class especially developed for brain injury survivors: an expressive\, energetic movement class for adults of all abilities living with brain injury and their carers. We will use a range of dance techniques\, music styles and themes to guide you through a fun-filled class. Sessions are free of charge but pre-booking is essential.
URL:https://www.headwaytyneside.com/event/lets-dance-a-headway-dance-group-2/
LOCATION:Linskill Centre\, Linskill Terrace\, North Shields\, NE30 2AY
CATEGORIES:Regular
ATTACH;FMTTYPE=image/png:https://www.headwaytyneside.com/wp-content/uploads/2025/04/lets-dance-1600-x-900-px-.png
END:VEVENT
BEGIN:VEVENT
DTSTART;TZID=Europe/London:20250624T180000
DTEND;TZID=Europe/London:20250624T200000
DTSTAMP:20260421T221748
CREATED:20250501T073643Z
LAST-MODIFIED:20250611T154157Z
UID:2363-1750788000-1750795200@www.headwaytyneside.com
SUMMARY:Tuesday Night Social Group
DESCRIPTION:We run a social group every Tuesday evening at Walkergate Park from 6-8pm. Tea\, coffee and biscuits are on offer\, and we promise you a warm welcome! \nUsually about 30 people attend this group each week – this includes Headway Tyneside members living with brain injury in the community\, inpatients receiving rehabilitation\, and families and carers.\nAs well as plenty of opportunity for friendly conversation\, we also run a different activity each week. Keep your eyes on our event page to see what is coming up! Our regular activities include table top games\, quizzes\, boccia\, family support sessions\, guest talks and much more
URL:https://www.headwaytyneside.com/event/tuesday-night-social-group-109/
LOCATION:Walkergate Park\, Benfield Road\, Newcastle upon Tyne\, NE6 4QD\, United Kingdom
CATEGORIES:Regular
ATTACH;FMTTYPE=image/jpeg:https://www.headwaytyneside.com/wp-content/uploads/2023/04/social-small-e1706721794531.jpg
END:VEVENT
BEGIN:VEVENT
DTSTART;TZID=Europe/London:20250625T130000
DTEND;TZID=Europe/London:20250625T140000
DTSTAMP:20260421T221748
CREATED:20250501T074202Z
LAST-MODIFIED:20250501T074202Z
UID:2371-1750856400-1750860000@www.headwaytyneside.com
SUMMARY:Walking Football
DESCRIPTION:Walking football is a fun and safe way for players to enjoy football and socialise together\, in teams up to 7-a-side. \nWalking football involves no running\, jogging\, or heading. Physical contact is kept to a minimum – no slide tackling or tackling from behind. The ball has to stay below chest height. \nOur walking football group runs every Wednesday from 1-2pm. We take regular drinks breaks\, and have with mixed teams of men and women and a variety of age groups and abilities. The coaches at Newcastle United Foundation are all highly skilled\, and make sure that everyone feels included and goes home with a smile on their face. \nThese sessions are free of charge\, thanks for kind sponsorship from Sintons. \nWe always welcome new players – if you would like to give it a try\, please contact us to find out more.
URL:https://www.headwaytyneside.com/event/walking-football-108/
LOCATION:NUCASTLE\, Diana Street\, Newcastle upon Tyne\, NE4 6BQ\, United Kingdom
CATEGORIES:Regular
ATTACH;FMTTYPE=image/jpeg:https://www.headwaytyneside.com/wp-content/uploads/2023/04/WF-group-e1706721898220.jpg
END:VEVENT
BEGIN:VEVENT
DTSTART;TZID=Europe/London:20250625T140000
DTEND;TZID=Europe/London:20250625T160000
DTSTAMP:20260421T221748
CREATED:20250501T074618Z
LAST-MODIFIED:20250501T074618Z
UID:2375-1750860000-1750867200@www.headwaytyneside.com
SUMMARY:Social Drop in at Shieldfield Art Works
DESCRIPTION:On the second and fourth Wednesday of the month\, we hold an informal drop-in session at Shieldfield Art Works (SAW)\, between 2-4pm. Tea\, coffee and biscuits are on offer and we promise you a warm welcome!\nThis is a chance to have a cuppa and a catch up with friends old and new. This group is based around friendly conversation – our members’ experiences are invaluable and through building relationships with one another we can develop a strong and supportive community for brain injury survivors and their families.
URL:https://www.headwaytyneside.com/event/social-drop-in-at-shieldfield-art-works-12/
LOCATION:Shieldfield Art Works\, 1 Clarence Street\, Newcastle upon Tyne\, NE2 1YH\, United Kingdom
CATEGORIES:Regular
ATTACH;FMTTYPE=image/webp:https://www.headwaytyneside.com/wp-content/uploads/2024/10/tea-and-biscuit.webp
END:VEVENT
END:VCALENDAR