BEGIN:VCALENDAR
VERSION:2.0
PRODID:-//Headway Tyneside - ECPv6.15.20//NONSGML v1.0//EN
CALSCALE:GREGORIAN
METHOD:PUBLISH
X-WR-CALNAME:Headway Tyneside
X-ORIGINAL-URL:https://www.headwaytyneside.com
X-WR-CALDESC:Events for Headway Tyneside
REFRESH-INTERVAL;VALUE=DURATION:PT1H
X-Robots-Tag:noindex
X-PUBLISHED-TTL:PT1H
BEGIN:VTIMEZONE
TZID:Europe/London
BEGIN:DAYLIGHT
TZOFFSETFROM:+0000
TZOFFSETTO:+0100
TZNAME:BST
DTSTART:20240331T010000
END:DAYLIGHT
BEGIN:STANDARD
TZOFFSETFROM:+0100
TZOFFSETTO:+0000
TZNAME:GMT
DTSTART:20241027T010000
END:STANDARD
BEGIN:DAYLIGHT
TZOFFSETFROM:+0000
TZOFFSETTO:+0100
TZNAME:BST
DTSTART:20250330T010000
END:DAYLIGHT
BEGIN:STANDARD
TZOFFSETFROM:+0100
TZOFFSETTO:+0000
TZNAME:GMT
DTSTART:20251026T010000
END:STANDARD
BEGIN:DAYLIGHT
TZOFFSETFROM:+0000
TZOFFSETTO:+0100
TZNAME:BST
DTSTART:20260329T010000
END:DAYLIGHT
BEGIN:STANDARD
TZOFFSETFROM:+0100
TZOFFSETTO:+0000
TZNAME:GMT
DTSTART:20261025T010000
END:STANDARD
END:VTIMEZONE
BEGIN:VEVENT
DTSTART;TZID=Europe/London:20250723T130000
DTEND;TZID=Europe/London:20250723T140000
DTSTAMP:20260421T221656
CREATED:20250501T133547Z
LAST-MODIFIED:20250627T111101Z
UID:2399-1753275600-1753279200@www.headwaytyneside.com
SUMMARY:Walking Football: SoccerWorld
DESCRIPTION:Walking football is a fun and safe way for players to enjoy football and socialise together\, in teams up to 7-a-side. \nWalking football involves no running\, jogging\, or heading. Physical contact is kept to a minimum – no slide tackling or tackling from behind. The ball has to stay below chest height. \nOur walking football group runs every Wednesday from 1-2pm. We take regular drinks breaks\, and have with mixed teams of men and women and a variety of age groups and abilities. The coaches at Newcastle United Foundation are all highly skilled\, and make sure that everyone feels included and goes home with a smile on their face. \nThese sessions are free of charge\, thanks for kind sponsorship from Sintons. \nWe always welcome new players – if you would like to give it a try\, please contact us to find out more.
URL:https://www.headwaytyneside.com/event/walking-football-soccerworld-5/
LOCATION:SoccerWorld\, Centre for Sport\, West Road\,\, Newcastle Upon Tyne\, NE4 9LG
CATEGORIES:Regular
ATTACH;FMTTYPE=image/jpeg:https://www.headwaytyneside.com/wp-content/uploads/2023/04/WF-group-e1706721898220.jpg
END:VEVENT
BEGIN:VEVENT
DTSTART;TZID=Europe/London:20250723T140000
DTEND;TZID=Europe/London:20250723T160000
DTSTAMP:20260421T221656
CREATED:20250501T134000Z
LAST-MODIFIED:20250501T134000Z
UID:2405-1753279200-1753286400@www.headwaytyneside.com
SUMMARY:Social Drop in at Shieldfield Art Works
DESCRIPTION:On the second and fourth Wednesday of the month\, we hold an informal drop-in session at Shieldfield Art Works (SAW)\, between 2-4pm. Tea\, coffee and biscuits are on offer and we promise you a warm welcome!\nThis is a chance to have a cuppa and a catch up with friends old and new. This group is based around friendly conversation – our members’ experiences are invaluable and through building relationships with one another we can develop a strong and supportive community for brain injury survivors and their families.
URL:https://www.headwaytyneside.com/event/social-drop-in-at-shieldfield-art-works-14/
LOCATION:Shieldfield Art Works\, 1 Clarence Street\, Newcastle upon Tyne\, NE2 1YH\, United Kingdom
CATEGORIES:Regular
ATTACH;FMTTYPE=image/webp:https://www.headwaytyneside.com/wp-content/uploads/2024/10/tea-and-biscuit.webp
END:VEVENT
END:VCALENDAR