BEGIN:VCALENDAR
VERSION:2.0
PRODID:-//Headway Tyneside - ECPv6.15.20//NONSGML v1.0//EN
CALSCALE:GREGORIAN
METHOD:PUBLISH
X-WR-CALNAME:Headway Tyneside
X-ORIGINAL-URL:https://www.headwaytyneside.com
X-WR-CALDESC:Events for Headway Tyneside
REFRESH-INTERVAL;VALUE=DURATION:PT1H
X-Robots-Tag:noindex
X-PUBLISHED-TTL:PT1H
BEGIN:VTIMEZONE
TZID:Europe/London
BEGIN:DAYLIGHT
TZOFFSETFROM:+0000
TZOFFSETTO:+0100
TZNAME:BST
DTSTART:20240331T010000
END:DAYLIGHT
BEGIN:STANDARD
TZOFFSETFROM:+0100
TZOFFSETTO:+0000
TZNAME:GMT
DTSTART:20241027T010000
END:STANDARD
BEGIN:DAYLIGHT
TZOFFSETFROM:+0000
TZOFFSETTO:+0100
TZNAME:BST
DTSTART:20250330T010000
END:DAYLIGHT
BEGIN:STANDARD
TZOFFSETFROM:+0100
TZOFFSETTO:+0000
TZNAME:GMT
DTSTART:20251026T010000
END:STANDARD
BEGIN:DAYLIGHT
TZOFFSETFROM:+0000
TZOFFSETTO:+0100
TZNAME:BST
DTSTART:20260329T010000
END:DAYLIGHT
BEGIN:STANDARD
TZOFFSETFROM:+0100
TZOFFSETTO:+0000
TZNAME:GMT
DTSTART:20261025T010000
END:STANDARD
END:VTIMEZONE
BEGIN:VEVENT
DTSTART;TZID=Europe/London:20251016T100000
DTEND;TZID=Europe/London:20251016T120000
DTSTAMP:20260421T175616
CREATED:20250723T093028Z
LAST-MODIFIED:20250723T094920Z
UID:2530-1760608800-1760616000@www.headwaytyneside.com
SUMMARY:Understanding My Brain Injury Course
DESCRIPTION:Understanding my Brain Injury \nHeadway Tyneside is happy to announce a training course for Headway Members. The course runs for five weeks and is designed to increase your knowledge of brain injury and its effects and provide you with strategies to support you in day-to-day life. \nSession topics include: The impact of injury on the brain; Energy and fatigue; Attention and memory; Behaviour and emotions; Insight and awareness \nDates: 18th\, 25th September\, 2nd\, 9th and 16th October \nAll sessions run Thursday Mornings: 10am – 12 noon at One Strawberry Lane\, Newcastle Upon Tyne\, NE1 4TD \nTo register your interest in attending\, please email info@headwaytyneside.com. \nRead more about it here: Understanding my brain injury: a free course | Headway Tyneside \nNotes: \n\nThis course is FREE for Headway members\, but places are limited\nPriority will be given to those who haven’t previously attended a brain injury awareness course\nBy signing up\, you are committing to attending all 5 sessions\nRefreshments will be provided\nYou will receive a certificate on completion of the course.
URL:https://www.headwaytyneside.com/event/understanding-my-brain-injury-course-9/
LOCATION:One Strawberry Lane\, One Strawberry Lane\, Newcastle upon Tyne\, NE1 4TD\, United Kingdom
CATEGORIES:Regular
ATTACH;FMTTYPE=image/jpeg:https://www.headwaytyneside.com/wp-content/uploads/2024/11/course-169-scaled.jpg
END:VEVENT
END:VCALENDAR